BEGIN:VCALENDAR
VERSION:2.0
PRODID:-//Barker Road Methodist Church - ECPv6.15.18//NONSGML v1.0//EN
CALSCALE:GREGORIAN
METHOD:PUBLISH
X-WR-CALNAME:Barker Road Methodist Church
X-ORIGINAL-URL:https://www.brmc.org.sg
X-WR-CALDESC:Events for Barker Road Methodist Church
REFRESH-INTERVAL;VALUE=DURATION:PT1H
X-Robots-Tag:noindex
X-PUBLISHED-TTL:PT1H
BEGIN:VTIMEZONE
TZID:Asia/Singapore
BEGIN:STANDARD
TZOFFSETFROM:+0800
TZOFFSETTO:+0800
TZNAME:+08
DTSTART:20240101T000000
END:STANDARD
END:VTIMEZONE
BEGIN:VEVENT
DTSTART;TZID=Asia/Singapore:20250907T143000
DTEND;TZID=Asia/Singapore:20250907T160000
DTSTAMP:20260424T114022
CREATED:20250429T085055Z
LAST-MODIFIED:20250801T062532Z
UID:9843-1757255400-1757260800@www.brmc.org.sg
SUMMARY:EQUIP - Singles Coffee\, Conversations & Activi-Tea
DESCRIPTION:A monthly event held every 1st Sunday of the month for singles to grow in interpersonal and intrapersonal skills. There will be interactive games\, thought provoking videos\, focused conversations using questionnaires as well as finger food and fellowship to grow relationships and healthy interaction between genders. \n2025 dates: 5 Jan\, 2 Feb\, 2 Mar\, 6 Apr\, 4 May\, 1 Jun\, 6 Jul\, 3 Aug\, 7 Sep\, 5 Oct\, 2 Nov\, 7 Dec \nSign up on the Church Center App \n 
URL:https://www.brmc.org.sg/event/equip-singles-coffee-conversations-activi-tea-9/
ATTACH;FMTTYPE=image/png:https://www.brmc.org.sg/wp-content/uploads/2024/12/WEB_Singles-Coffee-Conversation.png
END:VEVENT
BEGIN:VEVENT
DTSTART;TZID=Asia/Singapore:20250913T090000
DTEND;TZID=Asia/Singapore:20250913T140000
DTSTAMP:20260424T114022
CREATED:20250716T065825Z
LAST-MODIFIED:20250909T031815Z
UID:10782-1757754000-1757772000@www.brmc.org.sg
SUMMARY:EQUIP Symposium - Living well and prepared (Day 1)
DESCRIPTION:Being single isn’t merely a season — it’s a significant part of life to be lived fully and purposefully. \nJoin us in getting equipped to steward life holistically at this two-day symposium covering physical\, mental\, emotional and spiritual health\, as well as financial stewardship. \nGain practical wisdom\, fresh perspectives and new connections as we explore what it means to live well and prepared as singles. \nLet’s journey together towards wholeness and purpose as singles. \n\n\n\nDay 1\nTopic\nSpeaker\n\n\nSession 1\nThe Healthy Single\nDr Shaun Lee Jian Jie\nEndocrinologist\n\n\nSession 2\nThe Psychological and Emotional Well-Being of the Single\nClarie Ong\nCo-founder\, The Positive Movement\n\n\nDay 2\nTopic\nSpeaker\n\n\nSession 1\nLeaving A Meaningful Financial Legacy as a Single\nRoger Heng\nFinancial Planner\n\n\nSession 2\nLeaving A Meaningful Spiritual Legacy as a Single\nRev Ming Feong Ching\nPastor at Toa Payoh Methodist Church\n\n\n\nDates: 13 & 27 Sep 2025\nTime: 9am – 2pm\nVenue: L1 Conference Room (13 Sep) L2 Training Room (27 Sep) \nRegistration Fee: $10 (if you are attending both 13 & 27 Sep) or $5 (if you are attending only one Saturday) \nSign up now 
URL:https://www.brmc.org.sg/event/equip-2-day-symposium-living-well-and-prepared/
LOCATION:L1 Conference Room
ATTACH;FMTTYPE=image/png:https://www.brmc.org.sg/wp-content/uploads/2025/06/WEB_Talk-it-Out.png
END:VEVENT
BEGIN:VEVENT
DTSTART;TZID=Asia/Singapore:20250927T090000
DTEND;TZID=Asia/Singapore:20250927T140000
DTSTAMP:20260424T114022
CREATED:20250716T072552Z
LAST-MODIFIED:20250909T055933Z
UID:10791-1758963600-1758981600@www.brmc.org.sg
SUMMARY:Equip Symposium - Living Well and Prepared (Day 2)
DESCRIPTION:Being single isn’t merely a season — it’s a significant part of life to be lived fully and purposefully. \nJoin us in getting equipped to steward life holistically at this two-day symposium covering physical\, mental\, emotional and spiritual health\, as well as financial stewardship. \nGain practical wisdom\, fresh perspectives and new connections as we explore what it means to live well and prepared as singles. \nLet’s journey together towards wholeness and purpose as singles. \n\n\n\nDay 1\nTopic\nSpeaker\n\n\nSession 1\nThe Healthy Single\nDr Shaun Lee Jian Jie\nEndocrinologist\n\n\nSession 2\nThe Psychological and Emotional Well-Being of the Single\nClaire Ong\nCo-founder\, The Positive Movement\n\n\nDay 2\nTopic\nSpeaker\n\n\nSession 1\nLeaving A Meaningful Financial Legacy as a Single\nRoger Heng\nFinancial Planner\n\n\nSession 2\nLeaving A Meaningful Spiritual Legacy as a Single\nRev Ming Feong Ching\nPastor at Toa Payoh Methodist Church\n\n\n\nDates: 13 Sep & 27 Sep\nTime: 9am – 2pm\nVenue: L1 Conference Room (13 Sep) L2 Training Room (27 Sep) \nRegistration Fee: $10 (if you are attending both 13 & 27 Sep) or $5 (if you are attending only one Saturday) \nSign up on the Church Center App
URL:https://www.brmc.org.sg/event/equip-2-day-symposium-living-well-and-prepared-2/
LOCATION:L1 Conference Room
ATTACH;FMTTYPE=image/png:https://www.brmc.org.sg/wp-content/uploads/2025/06/WEB_Talk-it-Out.png
END:VEVENT
END:VCALENDAR