BEGIN:VCALENDAR
VERSION:2.0
PRODID:-//Barker Road Methodist Church - ECPv6.15.18//NONSGML v1.0//EN
CALSCALE:GREGORIAN
METHOD:PUBLISH
X-WR-CALNAME:Barker Road Methodist Church
X-ORIGINAL-URL:https://www.brmc.org.sg
X-WR-CALDESC:Events for Barker Road Methodist Church
REFRESH-INTERVAL;VALUE=DURATION:PT1H
X-Robots-Tag:noindex
X-PUBLISHED-TTL:PT1H
BEGIN:VTIMEZONE
TZID:Asia/Singapore
BEGIN:STANDARD
TZOFFSETFROM:+0800
TZOFFSETTO:+0800
TZNAME:+08
DTSTART:20240101T000000
END:STANDARD
END:VTIMEZONE
BEGIN:VEVENT
DTSTART;TZID=Asia/Singapore:20251005T143000
DTEND;TZID=Asia/Singapore:20251005T160000
DTSTAMP:20260424T101739
CREATED:20250429T085202Z
LAST-MODIFIED:20250901T082432Z
UID:9846-1759674600-1759680000@www.brmc.org.sg
SUMMARY:EQUIP - Singles Coffee\, Conversations & Activi-Tea
DESCRIPTION:A monthly event held every 1st Sunday of the month for singles to grow in interpersonal and intrapersonal skills. There will be interactive games\, thought provoking videos\, focused conversations using questionnaires as well as finger food and fellowship to grow relationships and healthy interaction between genders. \n2025 dates: 5 Jan\, 2 Feb\, 2 Mar\, 6 Apr\, 4 May\, 1 Jun\, 6 Jul\, 3 Aug\, 7 Sep\, 5 Oct\, 2 Nov\, 7 Dec \nSign up on the Church Center App
URL:https://www.brmc.org.sg/event/equip-singles-coffee-conversations-activi-tea-10/
ATTACH;FMTTYPE=image/png:https://www.brmc.org.sg/wp-content/uploads/2024/12/WEB_Singles-Coffee-Conversation.png
END:VEVENT
END:VCALENDAR