BEGIN:VCALENDAR
VERSION:2.0
PRODID:-//Barker Road Methodist Church - ECPv6.15.18//NONSGML v1.0//EN
CALSCALE:GREGORIAN
METHOD:PUBLISH
X-WR-CALNAME:Barker Road Methodist Church
X-ORIGINAL-URL:https://www.brmc.org.sg
X-WR-CALDESC:Events for Barker Road Methodist Church
REFRESH-INTERVAL;VALUE=DURATION:PT1H
X-Robots-Tag:noindex
X-PUBLISHED-TTL:PT1H
BEGIN:VTIMEZONE
TZID:Asia/Singapore
BEGIN:STANDARD
TZOFFSETFROM:+0800
TZOFFSETTO:+0800
TZNAME:+08
DTSTART:20250101T000000
END:STANDARD
END:VTIMEZONE
BEGIN:VEVENT
DTSTART;TZID=Asia/Singapore:20260104T143000
DTEND;TZID=Asia/Singapore:20260104T160000
DTSTAMP:20260424T055755
CREATED:20251017T065357Z
LAST-MODIFIED:20251215T094613Z
UID:12123-1767537000-1767542400@www.brmc.org.sg
SUMMARY:EQUIP - Singles Coffee\, Conversations & Activi-Tea
DESCRIPTION:Coffee\, Conversations & Activi-Tea is a monthly event for singles to gather in a safe and welcoming environment to build meaningful relationships and develop greater self and interpersonal awareness. \nEach session includes interactive activities and guided discussions grounded in biblical themes. Participants can look forward to reflective sharing\, light refreshments\, and opportunities for wholesome fellowship that encourage personal and spiritual growth. \n2026 dates: 4 Jan\, 1 Feb\, 1 Mar\, 3 May\, 7 Jun\, 5 Jul\, 2 Aug\, 6 Sep\, 4 Oct\, 1 Nov \nSign up on the Church Center App
URL:https://www.brmc.org.sg/event/equip-singles-coffee-conversations-activi-tea-13/
ATTACH;FMTTYPE=image/png:https://www.brmc.org.sg/wp-content/uploads/2024/12/WEB_Singles-Coffee-Conversation.png
END:VEVENT
END:VCALENDAR