BEGIN:VCALENDAR
VERSION:2.0
PRODID:-//Barker Road Methodist Church - ECPv6.15.18//NONSGML v1.0//EN
CALSCALE:GREGORIAN
METHOD:PUBLISH
X-WR-CALNAME:Barker Road Methodist Church
X-ORIGINAL-URL:https://www.brmc.org.sg
X-WR-CALDESC:Events for Barker Road Methodist Church
REFRESH-INTERVAL;VALUE=DURATION:PT1H
X-Robots-Tag:noindex
X-PUBLISHED-TTL:PT1H
BEGIN:VTIMEZONE
TZID:Asia/Singapore
BEGIN:STANDARD
TZOFFSETFROM:+0800
TZOFFSETTO:+0800
TZNAME:+08
DTSTART:20220101T000000
END:STANDARD
END:VTIMEZONE
BEGIN:VEVENT
DTSTART;VALUE=DATE:20231128
DTEND;VALUE=DATE:20231201
DTSTAMP:20260426T030003
CREATED:20230630T081506Z
LAST-MODIFIED:20230821T005308Z
UID:4962-1701129600-1701388799@www.brmc.org.sg
SUMMARY:Vacation Bible School (VBS)
DESCRIPTION:For children in Primary 1-5. \nDuration: Two and a half days. \nSign up now \nWilling hearts and hands from youths and adults still needed! \nVolunteer registration 
URL:https://www.brmc.org.sg/event/vacation-bible-school-vbs-2/
END:VEVENT
END:VCALENDAR